BEGIN:VCALENDAR
VERSION:2.0
PRODID:-//Mary Fettig - ECPv6.6.4.2//NONSGML v1.0//EN
CALSCALE:GREGORIAN
METHOD:PUBLISH
X-ORIGINAL-URL:https://maryfettig.com
X-WR-CALDESC:Events for Mary Fettig
REFRESH-INTERVAL;VALUE=DURATION:PT1H
X-Robots-Tag:noindex
X-PUBLISHED-TTL:PT1H
BEGIN:VTIMEZONE
TZID:UTC
BEGIN:STANDARD
TZOFFSETFROM:+0000
TZOFFSETTO:+0000
TZNAME:UTC
DTSTART:20260101T000000
END:STANDARD
END:VTIMEZONE
BEGIN:VEVENT
DTSTART;TZID=UTC:20260528T130000
DTEND;TZID=UTC:20260621T220000
DTSTAMP:20260425T213201
CREATED:20260406T171257Z
LAST-MODIFIED:20260406T171257Z
UID:1175-1779973200-1782079200@maryfettig.com
SUMMARY:Phantom of the Opera
DESCRIPTION:
URL:https://maryfettig.com/event/phantom-of-the-opera/
LOCATION:Orpheum Theater SF\, 1192 Market St\, San Francisco\, 94102\, United States
END:VEVENT
END:VCALENDAR