BEGIN:VCALENDAR
VERSION:2.0
PRODID:-//Mary Fettig - ECPv6.6.4.2//NONSGML v1.0//EN
CALSCALE:GREGORIAN
METHOD:PUBLISH
X-ORIGINAL-URL:https://maryfettig.com
X-WR-CALDESC:Events for Mary Fettig
REFRESH-INTERVAL;VALUE=DURATION:PT1H
X-Robots-Tag:noindex
X-PUBLISHED-TTL:PT1H
BEGIN:VTIMEZONE
TZID:UTC
BEGIN:STANDARD
TZOFFSETFROM:+0000
TZOFFSETTO:+0000
TZNAME:UTC
DTSTART:20260101T000000
END:STANDARD
END:VTIMEZONE
BEGIN:VEVENT
DTSTART;TZID=UTC:20260707T190000
DTEND;TZID=UTC:20260707T220000
DTSTAMP:20260425T233130
CREATED:20260406T171600Z
LAST-MODIFIED:20260406T171600Z
UID:1177-1783450800-1783461600@maryfettig.com
SUMMARY:LMR Jazz Orchestra w/Jon Faddis
DESCRIPTION:
URL:https://maryfettig.com/event/lmr-jazz-orchestra-w-jon-faddis/
LOCATION:CIA at Copia\, 500 1st St\, Napa\, CA
END:VEVENT
END:VCALENDAR